BEGIN:VCALENDAR
VERSION:2.0
PRODID:-//EVCT - ECPv6.15.20//NONSGML v1.0//EN
CALSCALE:GREGORIAN
METHOD:PUBLISH
X-ORIGINAL-URL:https://evct.fr
X-WR-CALDESC:Évènements pour EVCT
REFRESH-INTERVAL;VALUE=DURATION:PT1H
X-Robots-Tag:noindex
X-PUBLISHED-TTL:PT1H
BEGIN:VTIMEZONE
TZID:Europe/Paris
BEGIN:DAYLIGHT
TZOFFSETFROM:+0100
TZOFFSETTO:+0200
TZNAME:CEST
DTSTART:20230326T010000
END:DAYLIGHT
BEGIN:STANDARD
TZOFFSETFROM:+0200
TZOFFSETTO:+0100
TZNAME:CET
DTSTART:20231029T010000
END:STANDARD
BEGIN:DAYLIGHT
TZOFFSETFROM:+0100
TZOFFSETTO:+0200
TZNAME:CEST
DTSTART:20240331T010000
END:DAYLIGHT
BEGIN:STANDARD
TZOFFSETFROM:+0200
TZOFFSETTO:+0100
TZNAME:CET
DTSTART:20241027T010000
END:STANDARD
BEGIN:DAYLIGHT
TZOFFSETFROM:+0100
TZOFFSETTO:+0200
TZNAME:CEST
DTSTART:20250330T010000
END:DAYLIGHT
BEGIN:STANDARD
TZOFFSETFROM:+0200
TZOFFSETTO:+0100
TZNAME:CET
DTSTART:20251026T010000
END:STANDARD
END:VTIMEZONE
BEGIN:VEVENT
DTSTART;TZID=Europe/Paris:20241002T210000
DTEND;TZID=Europe/Paris:20241002T223000
DTSTAMP:20260424T214557
CREATED:20240923T082217Z
LAST-MODIFIED:20240923T082217Z
UID:3818-1727902800-1727908200@evct.fr
SUMMARY:Répétition
DESCRIPTION:
URL:https://evct.fr/event/repetition-107
LOCATION:Salle Jacques Brel\, 5-9 avenue Pierre Mendès-France\, Castanet-Tolosan\, 31320\, France
END:VEVENT
BEGIN:VEVENT
DTSTART;TZID=Europe/Paris:20241009T210000
DTEND;TZID=Europe/Paris:20241009T223000
DTSTAMP:20260424T214557
CREATED:20240923T082217Z
LAST-MODIFIED:20240923T082217Z
UID:3819-1728507600-1728513000@evct.fr
SUMMARY:Répétition
DESCRIPTION:
URL:https://evct.fr/event/repetition-108
LOCATION:Salle Jacques Brel\, 5-9 avenue Pierre Mendès-France\, Castanet-Tolosan\, 31320\, France
END:VEVENT
BEGIN:VEVENT
DTSTART;TZID=Europe/Paris:20241016T210000
DTEND;TZID=Europe/Paris:20241016T223000
DTSTAMP:20260424T214557
CREATED:20240923T082217Z
LAST-MODIFIED:20240923T082217Z
UID:3820-1729112400-1729117800@evct.fr
SUMMARY:Répétition
DESCRIPTION:
URL:https://evct.fr/event/repetition-109
LOCATION:Salle Jacques Brel\, 5-9 avenue Pierre Mendès-France\, Castanet-Tolosan\, 31320\, France
END:VEVENT
BEGIN:VEVENT
DTSTART;VALUE=DATE:20241019
DTEND;VALUE=DATE:20241021
DTSTAMP:20260424T214557
CREATED:20240325T112546Z
LAST-MODIFIED:20240510T085605Z
UID:3648-1729296000-1729468799@evct.fr
SUMMARY:WE choral à Castanet
DESCRIPTION:
URL:https://evct.fr/event/we-choral-2
END:VEVENT
END:VCALENDAR