BEGIN:VCALENDAR
VERSION:2.0
PRODID:-//EVCT - ECPv6.15.20//NONSGML v1.0//EN
CALSCALE:GREGORIAN
METHOD:PUBLISH
X-ORIGINAL-URL:https://evct.fr
X-WR-CALDESC:Évènements pour EVCT
REFRESH-INTERVAL;VALUE=DURATION:PT1H
X-Robots-Tag:noindex
X-PUBLISHED-TTL:PT1H
BEGIN:VTIMEZONE
TZID:Europe/Paris
BEGIN:DAYLIGHT
TZOFFSETFROM:+0100
TZOFFSETTO:+0200
TZNAME:CEST
DTSTART:20240331T010000
END:DAYLIGHT
BEGIN:STANDARD
TZOFFSETFROM:+0200
TZOFFSETTO:+0100
TZNAME:CET
DTSTART:20241027T010000
END:STANDARD
BEGIN:DAYLIGHT
TZOFFSETFROM:+0100
TZOFFSETTO:+0200
TZNAME:CEST
DTSTART:20250330T010000
END:DAYLIGHT
BEGIN:STANDARD
TZOFFSETFROM:+0200
TZOFFSETTO:+0100
TZNAME:CET
DTSTART:20251026T010000
END:STANDARD
BEGIN:DAYLIGHT
TZOFFSETFROM:+0100
TZOFFSETTO:+0200
TZNAME:CEST
DTSTART:20260329T010000
END:DAYLIGHT
BEGIN:STANDARD
TZOFFSETFROM:+0200
TZOFFSETTO:+0100
TZNAME:CET
DTSTART:20261025T010000
END:STANDARD
END:VTIMEZONE
BEGIN:VEVENT
DTSTART;TZID=Europe/Paris:20250205T210000
DTEND;TZID=Europe/Paris:20250205T223000
DTSTAMP:20260424T131819
CREATED:20241021T154059Z
LAST-MODIFIED:20241021T154059Z
UID:3854-1738789200-1738794600@evct.fr
SUMMARY:Répétition
DESCRIPTION:
URL:https://evct.fr/event/repetition-121
LOCATION:Salle Jacques Brel\, 5-9 avenue Pierre Mendès-France\, Castanet-Tolosan\, 31320\, France
END:VEVENT
BEGIN:VEVENT
DTSTART;TZID=Europe/Paris:20250207T210000
DTEND;TZID=Europe/Paris:20250207T223000
DTSTAMP:20260424T131820
CREATED:20241021T154416Z
LAST-MODIFIED:20241021T154416Z
UID:3857-1738962000-1738967400@evct.fr
SUMMARY:Répétition supplémentaire
DESCRIPTION:
URL:https://evct.fr/event/repetition-supplementaire-10
LOCATION:Salle Jacques Brel\, 5-9 avenue Pierre Mendès-France\, Castanet-Tolosan\, 31320\, France
END:VEVENT
BEGIN:VEVENT
DTSTART;TZID=Europe/Paris:20250212T210000
DTEND;TZID=Europe/Paris:20250212T223000
DTSTAMP:20260424T131820
CREATED:20241021T154600Z
LAST-MODIFIED:20241021T154600Z
UID:3859-1739394000-1739399400@evct.fr
SUMMARY:Répétition
DESCRIPTION:
URL:https://evct.fr/event/repetition-122
LOCATION:Salle Jacques Brel\, 5-9 avenue Pierre Mendès-France\, Castanet-Tolosan\, 31320\, France
END:VEVENT
END:VCALENDAR