BEGIN:VCALENDAR
VERSION:2.0
PRODID:-//EVCT - ECPv6.15.20//NONSGML v1.0//EN
CALSCALE:GREGORIAN
METHOD:PUBLISH
X-WR-CALNAME:EVCT
X-ORIGINAL-URL:https://evct.fr
X-WR-CALDESC:Évènements pour EVCT
REFRESH-INTERVAL;VALUE=DURATION:PT1H
X-Robots-Tag:noindex
X-PUBLISHED-TTL:PT1H
BEGIN:VTIMEZONE
TZID:Europe/Paris
BEGIN:DAYLIGHT
TZOFFSETFROM:+0100
TZOFFSETTO:+0200
TZNAME:CEST
DTSTART:20240331T010000
END:DAYLIGHT
BEGIN:STANDARD
TZOFFSETFROM:+0200
TZOFFSETTO:+0100
TZNAME:CET
DTSTART:20241027T010000
END:STANDARD
BEGIN:DAYLIGHT
TZOFFSETFROM:+0100
TZOFFSETTO:+0200
TZNAME:CEST
DTSTART:20250330T010000
END:DAYLIGHT
BEGIN:STANDARD
TZOFFSETFROM:+0200
TZOFFSETTO:+0100
TZNAME:CET
DTSTART:20251026T010000
END:STANDARD
BEGIN:DAYLIGHT
TZOFFSETFROM:+0100
TZOFFSETTO:+0200
TZNAME:CEST
DTSTART:20260329T010000
END:DAYLIGHT
BEGIN:STANDARD
TZOFFSETFROM:+0200
TZOFFSETTO:+0100
TZNAME:CET
DTSTART:20261025T010000
END:STANDARD
END:VTIMEZONE
BEGIN:VEVENT
DTSTART;TZID=Europe/Paris:20250305T210000
DTEND;TZID=Europe/Paris:20250305T223000
DTSTAMP:20260424T113321
CREATED:20241021T154730Z
LAST-MODIFIED:20241021T154730Z
UID:3861-1741208400-1741213800@evct.fr
SUMMARY:Répétition
DESCRIPTION:
URL:https://evct.fr/event/repetition-123
LOCATION:Salle Jacques Brel\, 5-9 avenue Pierre Mendès-France\, Castanet-Tolosan\, 31320\, France
END:VEVENT
BEGIN:VEVENT
DTSTART;TZID=Europe/Paris:20250309T170000
DTEND;TZID=Europe/Paris:20250309T190000
DTSTAMP:20260424T113321
CREATED:20241107T095816Z
LAST-MODIFIED:20250131T135715Z
UID:3897-1741539600-1741546800@evct.fr
SUMMARY:Concert Musiques du monde
DESCRIPTION:
URL:https://evct.fr/event/possibles-concerts-cantu-di-luna
LOCATION:Castanet-Tolosan\, Castanet-Tolosan\, 31320\, France
END:VEVENT
BEGIN:VEVENT
DTSTART;TZID=Europe/Paris:20250312T210000
DTEND;TZID=Europe/Paris:20250312T223000
DTSTAMP:20260424T113321
CREATED:20241021T155130Z
LAST-MODIFIED:20241021T155130Z
UID:3867-1741813200-1741818600@evct.fr
SUMMARY:Répétition
DESCRIPTION:
URL:https://evct.fr/event/repetition-124
LOCATION:Salle Jacques Brel\, 5-9 avenue Pierre Mendès-France\, Castanet-Tolosan\, 31320\, France
END:VEVENT
BEGIN:VEVENT
DTSTART;VALUE=DATE:20250315
DTEND;VALUE=DATE:20250317
DTSTAMP:20260424T113321
CREATED:20240510T090149Z
LAST-MODIFIED:20240510T090149Z
UID:3734-1741996800-1742169599@evct.fr
SUMMARY:WE choral - Chalets de St Nérée
DESCRIPTION:
URL:https://evct.fr/event/we-choral-chalets-de-st-neree
LOCATION:Chalets de Saint-Nérée\, Ferrere\, 65370\, France
END:VEVENT
BEGIN:VEVENT
DTSTART;TZID=Europe/Paris:20250319T210000
DTEND;TZID=Europe/Paris:20250319T223000
DTSTAMP:20260424T113321
CREATED:20241021T155231Z
LAST-MODIFIED:20241021T155231Z
UID:3869-1742418000-1742423400@evct.fr
SUMMARY:Répétition
DESCRIPTION:
URL:https://evct.fr/event/repetition-125
LOCATION:Salle Jacques Brel\, 5-9 avenue Pierre Mendès-France\, Castanet-Tolosan\, 31320\, France
END:VEVENT
BEGIN:VEVENT
DTSTART;TZID=Europe/Paris:20250326T210000
DTEND;TZID=Europe/Paris:20250326T223000
DTSTAMP:20260424T113321
CREATED:20241021T155336Z
LAST-MODIFIED:20241021T155336Z
UID:3871-1743022800-1743028200@evct.fr
SUMMARY:Répétition
DESCRIPTION:
URL:https://evct.fr/event/repetition-126
LOCATION:Salle Jacques Brel\, 5-9 avenue Pierre Mendès-France\, Castanet-Tolosan\, 31320\, France
END:VEVENT
END:VCALENDAR