BEGIN:VCALENDAR
VERSION:2.0
PRODID:-//EVCT - ECPv6.15.20//NONSGML v1.0//EN
CALSCALE:GREGORIAN
METHOD:PUBLISH
X-ORIGINAL-URL:https://evct.fr
X-WR-CALDESC:Évènements pour EVCT
REFRESH-INTERVAL;VALUE=DURATION:PT1H
X-Robots-Tag:noindex
X-PUBLISHED-TTL:PT1H
BEGIN:VTIMEZONE
TZID:Europe/Paris
BEGIN:DAYLIGHT
TZOFFSETFROM:+0100
TZOFFSETTO:+0200
TZNAME:CEST
DTSTART:20240331T010000
END:DAYLIGHT
BEGIN:STANDARD
TZOFFSETFROM:+0200
TZOFFSETTO:+0100
TZNAME:CET
DTSTART:20241027T010000
END:STANDARD
BEGIN:DAYLIGHT
TZOFFSETFROM:+0100
TZOFFSETTO:+0200
TZNAME:CEST
DTSTART:20250330T010000
END:DAYLIGHT
BEGIN:STANDARD
TZOFFSETFROM:+0200
TZOFFSETTO:+0100
TZNAME:CET
DTSTART:20251026T010000
END:STANDARD
BEGIN:DAYLIGHT
TZOFFSETFROM:+0100
TZOFFSETTO:+0200
TZNAME:CEST
DTSTART:20260329T010000
END:DAYLIGHT
BEGIN:STANDARD
TZOFFSETFROM:+0200
TZOFFSETTO:+0100
TZNAME:CET
DTSTART:20261025T010000
END:STANDARD
END:VTIMEZONE
BEGIN:VEVENT
DTSTART;TZID=Europe/Paris:20250604T210000
DTEND;TZID=Europe/Paris:20250604T223000
DTSTAMP:20260424T054043
CREATED:20241021T161127Z
LAST-MODIFIED:20241021T161127Z
UID:3885-1749070800-1749076200@evct.fr
SUMMARY:Répétition
DESCRIPTION:
URL:https://evct.fr/event/repetition-133
LOCATION:Salle Jacques Brel\, 5-9 avenue Pierre Mendès-France\, Castanet-Tolosan\, 31320\, France
END:VEVENT
BEGIN:VEVENT
DTSTART;VALUE=DATE:20250607
DTEND;VALUE=DATE:20250608
DTSTAMP:20260424T054043
CREATED:20241107T100348Z
LAST-MODIFIED:20250408T085506Z
UID:3907-1749254400-1749340799@evct.fr
SUMMARY:Mariage fils de Florence Saint-Paul (cathédrale Toulouse)
DESCRIPTION:
URL:https://evct.fr/event/mariage-fils-de-florence-saint-paul
LOCATION:Cathédrale Saint-Etienne\, place Saint-Etienne\, Toulouse\, 31000\, France
END:VEVENT
BEGIN:VEVENT
DTSTART;TZID=Europe/Paris:20250611T210000
DTEND;TZID=Europe/Paris:20250611T223000
DTSTAMP:20260424T054043
CREATED:20241021T161245Z
LAST-MODIFIED:20241021T161245Z
UID:3887-1749675600-1749681000@evct.fr
SUMMARY:Répétition
DESCRIPTION:
URL:https://evct.fr/event/repetition-134
LOCATION:Salle Jacques Brel\, 5-9 avenue Pierre Mendès-France\, Castanet-Tolosan\, 31320\, France
END:VEVENT
BEGIN:VEVENT
DTSTART;TZID=Europe/Paris:20250613T210000
DTEND;TZID=Europe/Paris:20250613T223000
DTSTAMP:20260424T054043
CREATED:20241021T155016Z
LAST-MODIFIED:20241021T155016Z
UID:3865-1749848400-1749853800@evct.fr
SUMMARY:Répétition supplémentaire
DESCRIPTION:
URL:https://evct.fr/event/repetition-supplementaire-12
LOCATION:Salle Jacques Brel\, 5-9 avenue Pierre Mendès-France\, Castanet-Tolosan\, 31320\, France
END:VEVENT
BEGIN:VEVENT
DTSTART;TZID=Europe/Paris:20250618T210000
DTEND;TZID=Europe/Paris:20250618T223000
DTSTAMP:20260424T054043
CREATED:20241021T161350Z
LAST-MODIFIED:20241021T161350Z
UID:3889-1750280400-1750285800@evct.fr
SUMMARY:Répétition
DESCRIPTION:
URL:https://evct.fr/event/repetition-135
LOCATION:Salle Jacques Brel\, 5-9 avenue Pierre Mendès-France\, Castanet-Tolosan\, 31320\, France
END:VEVENT
BEGIN:VEVENT
DTSTART;TZID=Europe/Paris:20250625T210000
DTEND;TZID=Europe/Paris:20250625T223000
DTSTAMP:20260424T054043
CREATED:20241021T161446Z
LAST-MODIFIED:20241021T161446Z
UID:3891-1750885200-1750890600@evct.fr
SUMMARY:Répétition
DESCRIPTION:
URL:https://evct.fr/event/repetition-136
LOCATION:Salle Jacques Brel\, 5-9 avenue Pierre Mendès-France\, Castanet-Tolosan\, 31320\, France
END:VEVENT
BEGIN:VEVENT
DTSTART;VALUE=DATE:20250628
DTEND;VALUE=DATE:20250630
DTSTAMP:20260424T054043
CREATED:20250612T121411Z
LAST-MODIFIED:20250612T121412Z
UID:4314-1751068800-1751241599@evct.fr
SUMMARY:Accueil Espagnols et concert
DESCRIPTION:
URL:https://evct.fr/event/accueil-espagnols-et-concert
END:VEVENT
END:VCALENDAR