BEGIN:VCALENDAR
VERSION:2.0
PRODID:-//EVCT - ECPv6.15.20//NONSGML v1.0//EN
CALSCALE:GREGORIAN
METHOD:PUBLISH
X-WR-CALNAME:EVCT
X-ORIGINAL-URL:https://evct.fr
X-WR-CALDESC:Évènements pour EVCT
REFRESH-INTERVAL;VALUE=DURATION:PT1H
X-Robots-Tag:noindex
X-PUBLISHED-TTL:PT1H
BEGIN:VTIMEZONE
TZID:Europe/Paris
BEGIN:DAYLIGHT
TZOFFSETFROM:+0100
TZOFFSETTO:+0200
TZNAME:CEST
DTSTART:20240331T010000
END:DAYLIGHT
BEGIN:STANDARD
TZOFFSETFROM:+0200
TZOFFSETTO:+0100
TZNAME:CET
DTSTART:20241027T010000
END:STANDARD
BEGIN:DAYLIGHT
TZOFFSETFROM:+0100
TZOFFSETTO:+0200
TZNAME:CEST
DTSTART:20250330T010000
END:DAYLIGHT
BEGIN:STANDARD
TZOFFSETFROM:+0200
TZOFFSETTO:+0100
TZNAME:CET
DTSTART:20251026T010000
END:STANDARD
BEGIN:DAYLIGHT
TZOFFSETFROM:+0100
TZOFFSETTO:+0200
TZNAME:CEST
DTSTART:20260329T010000
END:DAYLIGHT
BEGIN:STANDARD
TZOFFSETFROM:+0200
TZOFFSETTO:+0100
TZNAME:CET
DTSTART:20261025T010000
END:STANDARD
END:VTIMEZONE
BEGIN:VEVENT
DTSTART;TZID=Europe/Paris:20250910T210000
DTEND;TZID=Europe/Paris:20250910T223000
DTSTAMP:20260423T233936
CREATED:20250902T184107Z
LAST-MODIFIED:20250902T184107Z
UID:4342-1757538000-1757543400@evct.fr
SUMMARY:Répétition
DESCRIPTION:
URL:https://evct.fr/event/repetition-138
LOCATION:Salle Jacques Brel\, 5-9 avenue Pierre Mendès-France\, Castanet-Tolosan\, 31320\, France
END:VEVENT
BEGIN:VEVENT
DTSTART;TZID=Europe/Paris:20250917T210000
DTEND;TZID=Europe/Paris:20250917T223000
DTSTAMP:20260423T233936
CREATED:20250902T184107Z
LAST-MODIFIED:20250902T184107Z
UID:4343-1758142800-1758148200@evct.fr
SUMMARY:Répétition
DESCRIPTION:
URL:https://evct.fr/event/repetition-139
LOCATION:Salle Jacques Brel\, 5-9 avenue Pierre Mendès-France\, Castanet-Tolosan\, 31320\, France
END:VEVENT
BEGIN:VEVENT
DTSTART;VALUE=DATE:20250920
DTEND;VALUE=DATE:20250922
DTSTAMP:20260423T233936
CREATED:20240510T090339Z
LAST-MODIFIED:20240510T090339Z
UID:3737-1758326400-1758499199@evct.fr
SUMMARY:WE choral - Narbonne
DESCRIPTION:
URL:https://evct.fr/event/we-choral-narbonne
LOCATION:Narbonne\, Narbonne\, 11100\, France
END:VEVENT
BEGIN:VEVENT
DTSTART;TZID=Europe/Paris:20250924T210000
DTEND;TZID=Europe/Paris:20250924T223000
DTSTAMP:20260423T233936
CREATED:20250902T184108Z
LAST-MODIFIED:20250902T184108Z
UID:4344-1758747600-1758753000@evct.fr
SUMMARY:Répétition
DESCRIPTION:
URL:https://evct.fr/event/repetition-140
LOCATION:Salle Jacques Brel\, 5-9 avenue Pierre Mendès-France\, Castanet-Tolosan\, 31320\, France
END:VEVENT
END:VCALENDAR