BEGIN:VCALENDAR
VERSION:2.0
PRODID:-//EVCT - ECPv6.15.20//NONSGML v1.0//EN
CALSCALE:GREGORIAN
METHOD:PUBLISH
X-ORIGINAL-URL:https://evct.fr
X-WR-CALDESC:Évènements pour EVCT
REFRESH-INTERVAL;VALUE=DURATION:PT1H
X-Robots-Tag:noindex
X-PUBLISHED-TTL:PT1H
BEGIN:VTIMEZONE
TZID:Europe/Paris
BEGIN:DAYLIGHT
TZOFFSETFROM:+0100
TZOFFSETTO:+0200
TZNAME:CEST
DTSTART:20250330T010000
END:DAYLIGHT
BEGIN:STANDARD
TZOFFSETFROM:+0200
TZOFFSETTO:+0100
TZNAME:CET
DTSTART:20251026T010000
END:STANDARD
BEGIN:DAYLIGHT
TZOFFSETFROM:+0100
TZOFFSETTO:+0200
TZNAME:CEST
DTSTART:20260329T010000
END:DAYLIGHT
BEGIN:STANDARD
TZOFFSETFROM:+0200
TZOFFSETTO:+0100
TZNAME:CET
DTSTART:20261025T010000
END:STANDARD
BEGIN:DAYLIGHT
TZOFFSETFROM:+0100
TZOFFSETTO:+0200
TZNAME:CEST
DTSTART:20270328T010000
END:DAYLIGHT
BEGIN:STANDARD
TZOFFSETFROM:+0200
TZOFFSETTO:+0100
TZNAME:CET
DTSTART:20271031T010000
END:STANDARD
END:VTIMEZONE
BEGIN:VEVENT
DTSTART;TZID=Europe/Paris:20260506T210000
DTEND;TZID=Europe/Paris:20260506T224500
DTSTAMP:20260423T132223
CREATED:20251205T110553Z
LAST-MODIFIED:20251205T110553Z
UID:4454-1778101200-1778107500@evct.fr
SUMMARY:Répétition
DESCRIPTION:
URL:https://evct.fr/event/repetition-164
LOCATION:Salle Jacques Brel\, 5-9 avenue Pierre Mendès-France\, Castanet-Tolosan\, 31320\, France
END:VEVENT
BEGIN:VEVENT
DTSTART;TZID=Europe/Paris:20260520T210000
DTEND;TZID=Europe/Paris:20260520T224500
DTSTAMP:20260423T132223
CREATED:20251205T110609Z
LAST-MODIFIED:20251205T110609Z
UID:4456-1779310800-1779317100@evct.fr
SUMMARY:Répétition
DESCRIPTION:
URL:https://evct.fr/event/repetition-166
LOCATION:Salle Jacques Brel\, 5-9 avenue Pierre Mendès-France\, Castanet-Tolosan\, 31320\, France
END:VEVENT
BEGIN:VEVENT
DTSTART;TZID=Europe/Paris:20260527T210000
DTEND;TZID=Europe/Paris:20260527T224500
DTSTAMP:20260423T132223
CREATED:20251205T110609Z
LAST-MODIFIED:20260211T112803Z
UID:4457-1779915600-1779921900@evct.fr
SUMMARY:Répétition avec choristes en renfort
DESCRIPTION:
URL:https://evct.fr/event/repetition-167
LOCATION:Salle Jacques Brel\, 5-9 avenue Pierre Mendès-France\, Castanet-Tolosan\, 31320\, France
END:VEVENT
BEGIN:VEVENT
DTSTART;VALUE=DATE:20260530
DTEND;VALUE=DATE:20260531
DTSTAMP:20260423T132223
CREATED:20251205T110704Z
LAST-MODIFIED:20260211T113143Z
UID:4462-1780099200-1780185599@evct.fr
SUMMARY:Journée de travail chœurs d'opéra (EVCT sans renforts)
DESCRIPTION:
URL:https://evct.fr/event/repetition-choeurs-dopera
END:VEVENT
END:VCALENDAR